BEGIN:VCALENDAR
VERSION:2.0
PRODID:-//Orquioval - ECPv6.3.7//NONSGML v1.0//EN
CALSCALE:GREGORIAN
METHOD:PUBLISH
X-ORIGINAL-URL:https://orquioval.org
X-WR-CALDESC:Eventos para Orquioval
REFRESH-INTERVAL;VALUE=DURATION:PT1H
X-Robots-Tag:noindex
X-PUBLISHED-TTL:PT1H
BEGIN:VTIMEZONE
TZID:Europe/Paris
BEGIN:DAYLIGHT
TZOFFSETFROM:+0100
TZOFFSETTO:+0200
TZNAME:CEST
DTSTART:20240331T010000
END:DAYLIGHT
BEGIN:STANDARD
TZOFFSETFROM:+0200
TZOFFSETTO:+0100
TZNAME:CET
DTSTART:20241027T010000
END:STANDARD
END:VTIMEZONE
BEGIN:VEVENT
DTSTART;TZID=Europe/Paris:20240504T100000
DTEND;TZID=Europe/Paris:20240505T180000
DTSTAMP:20260424T232317
CREATED:20240314T105254Z
LAST-MODIFIED:20260320T180810Z
UID:10204-1714816800-1714932000@orquioval.org
SUMMARY:21 Exposición Orquídeas
DESCRIPTION:¡Te esperamos el próximo sábado 4 y domingo 5 de mayo para disfrutar de la fascinante exposición en vivo de orquídeas! \nNo solo podrás deleitarte con las hermosas orquídeas en vivo  de los socios\, sino que también contaremos con distintas actividades: habrá charlas informativas\, talleres prácticos y muchas sorpresas más. Será una oportunidad única para admirar la diversidad y la belleza de estas flores en persona. \n¡No te lo pierdas! \n 
URL:https://orquioval.org/evento/21-exposicion-orquideas/
END:VEVENT
END:VCALENDAR